BEGIN:VCALENDAR
VERSION:2.0
PRODID:-//kirstinelund - ECPv6.15.20//NONSGML v1.0//EN
CALSCALE:GREGORIAN
METHOD:PUBLISH
X-ORIGINAL-URL:https://kirstinelund.nu
X-WR-CALDESC:Begivenheder for kirstinelund
REFRESH-INTERVAL;VALUE=DURATION:PT1H
X-Robots-Tag:noindex
X-PUBLISHED-TTL:PT1H
BEGIN:VTIMEZONE
TZID:Europe/Copenhagen
BEGIN:DAYLIGHT
TZOFFSETFROM:+0100
TZOFFSETTO:+0200
TZNAME:CEST
DTSTART:20250330T010000
END:DAYLIGHT
BEGIN:STANDARD
TZOFFSETFROM:+0200
TZOFFSETTO:+0100
TZNAME:CET
DTSTART:20251026T010000
END:STANDARD
BEGIN:DAYLIGHT
TZOFFSETFROM:+0100
TZOFFSETTO:+0200
TZNAME:CEST
DTSTART:20260329T010000
END:DAYLIGHT
BEGIN:STANDARD
TZOFFSETFROM:+0200
TZOFFSETTO:+0100
TZNAME:CET
DTSTART:20261025T010000
END:STANDARD
BEGIN:DAYLIGHT
TZOFFSETFROM:+0100
TZOFFSETTO:+0200
TZNAME:CEST
DTSTART:20270328T010000
END:DAYLIGHT
BEGIN:STANDARD
TZOFFSETFROM:+0200
TZOFFSETTO:+0100
TZNAME:CET
DTSTART:20271031T010000
END:STANDARD
END:VTIMEZONE
BEGIN:VEVENT
DTSTART;TZID=Europe/Copenhagen:20260520T180000
DTEND;TZID=Europe/Copenhagen:20260520T200000
DTSTAMP:20260422T162325
CREATED:20260303T095342Z
LAST-MODIFIED:20260303T095342Z
UID:11000201-1779300000-1779307200@kirstinelund.nu
SUMMARY:Spis Sammen
DESCRIPTION:MIB’s bud på hyggelig fællesspisning på Kirstinelund i Lystrup! \nVores dygtige kokke sørger for en lækker 2-retters menu af sæsonens bedste råvarer\, så I kan nyde nogle hyggelige timer med gastronomien og fællesskabet som samlingspunkt. \nBilletten inkluderer en forudbestemt forret og hovedret. Drikkevarer købes i baren med MobilePay (vi tager ikke kort). Det er muligt at tilkøbe dessert her på siden eller på dagen (med forbeholdt for udsolgt). \nTag din familie eller venner med\, og nyd et par timer i hyggelige omgivelser\, alle er velkomne og der er også sørget for børnene. \nDu tilmelder dig via linket. \nVi glæder os til at se dig\, din familie\, dine venner eller kollegaer til en hyggelig aften i gårdens stuehus\, MIB sørger for lækkerier til ganen.
URL:https://kirstinelund.nu/event/spis-sammen-2/
LOCATION:k3 Stuehuset\, Skæringvej 100\, Lystrup\, 8520
CATEGORIES:For alle
ATTACH;FMTTYPE=image/png:https://kirstinelund.nu/wp-content/uploads/2024/07/9.png
END:VEVENT
END:VCALENDAR